BEGIN:VCALENDAR
VERSION:2.0
PRODID:-//109.199.126.31//NONSGML kigkonsult.se iCalcreator 2.20//
CALSCALE:GREGORIAN
METHOD:PUBLISH
X-WR-CALNAME:Beyond Transformation
X-WR-CALDESC:Health &amp\; Fitness in Burleigh
X-FROM-URL:https://beyondtransformation.com.au
X-WR-TIMEZONE:Australia/Brisbane
BEGIN:VTIMEZONE
TZID:Australia/Brisbane
X-LIC-LOCATION:Australia/Brisbane
BEGIN:STANDARD
DTSTART:19920301T030000
TZOFFSETFROM:+1100
TZOFFSETTO:+1000
TZNAME:AEST
END:STANDARD
END:VTIMEZONE
BEGIN:VEVENT
UID:ai1ec-2541@beyondtransformation.site
DTSTAMP:20190228T222313Z
CATEGORIES;LANGUAGE=en-AU:Boxing
CONTACT:Shane
DESCRIPTION:Our Boxing / Kickboxing class is one of our favourite classes a
 t Beyond\, taught by our very own professional ex-MMA fighter Shane Gregor
 y\, with some help from his team. A perfect blend of fitness and kickboxin
 g style training\, it is a great way to burn calories and have heaps of fu
 n at the same time. Get fit\, lose weight and learn self-defence all in th
 e same class – what more could you ask for?
DTSTART;TZID=Australia/Brisbane:20180612T180000
DTEND;TZID=Australia/Brisbane:20180612T190000
RRULE:FREQ=WEEKLY;BYDAY=TU,TH;WKST=MO
SEQUENCE:0
SUMMARY:Boxing
URL:https://beyondtransformation.com.au/event/boxing/
X-COST-TYPE:free
X-ALT-DESC;FMTTYPE=text/html:<!DOCTYPE HTML PUBLIC '-//W3C//DTD HTML 3.2//E
 N'>\\n<HTML>\\n<HEAD>\\n<TITLE></TITLE>\\n</HEAD>\\n<BODY><div id='et-boc'
  class='et-boc'>\n			\n			<div class='et_builder_inner_content et_pb_gutters3'>
 \n				<p class='p1'><span class='s1'>Our Boxing / Kickboxing class is one of o
 ur favourite classes at Beyond\, taught by our very own professional ex-MM
 A fighter Shane Gregory\, with some help from his team. </span><span class
 ='s2'>A perfect blend of fitness and kickboxing style training\, it is a g
 reat way to burn calories and have heaps of fun at the same time. Get fit\
 , lose weight and learn self-defence all in the same class – what more cou
 ld you ask for?</span></p>\n\n			</div>\n			\n		</div></BODY></HTML>
END:VEVENT
END:VCALENDAR
