BEGIN:VCALENDAR
VERSION:2.0
PRODID:-//109.199.126.31//NONSGML kigkonsult.se iCalcreator 2.20//
CALSCALE:GREGORIAN
METHOD:PUBLISH
X-WR-CALNAME:Beyond Transformation
X-WR-CALDESC:Health &amp\; Fitness in Burleigh
X-FROM-URL:https://beyondtransformation.com.au
X-WR-TIMEZONE:Australia/Brisbane
BEGIN:VTIMEZONE
TZID:Australia/Brisbane
X-LIC-LOCATION:Australia/Brisbane
BEGIN:STANDARD
DTSTART:19920301T030000
TZOFFSETFROM:+1100
TZOFFSETTO:+1000
TZNAME:AEST
END:STANDARD
END:VTIMEZONE
BEGIN:VEVENT
UID:ai1ec-2594@beyondtransformation.site
DTSTAMP:20190228T222359Z
CATEGORIES;LANGUAGE=en-AU:Yoga
CONTACT:
DESCRIPTION:
DTSTART;TZID=Australia/Brisbane:20180703T190000
DTEND;TZID=Australia/Brisbane:20180703T200000
LOCATION:Beyond Transformation @ 5/76 Township Drive\, West Burleigh
RRULE:FREQ=WEEKLY;BYDAY=TU,TH;WKST=MO
SEQUENCE:0
SUMMARY:Yoga
URL:https://beyondtransformation.com.au/event/yoga/
X-COST-TYPE:free
X-ALT-DESC;FMTTYPE=text/html:<!DOCTYPE HTML PUBLIC '-//W3C//DTD HTML 3.2//E
 N'>\\n<HTML>\\n<HEAD>\\n<TITLE></TITLE>\\n</HEAD>\\n<BODY><div id='et-boc'
  class='et-boc'>\n			\n			<div class='et_builder_inner_content et_pb_gutters3'>
 \n				\n			</div>\n			\n		</div></BODY></HTML>
END:VEVENT
END:VCALENDAR
