BEGIN:VCALENDAR
VERSION:2.0
PRODID:-//109.199.126.31//NONSGML kigkonsult.se iCalcreator 2.20//
CALSCALE:GREGORIAN
METHOD:PUBLISH
X-WR-CALNAME:Beyond Transformation
X-WR-CALDESC:Health &amp\; Fitness in Burleigh
X-FROM-URL:https://beyondtransformation.com.au
X-WR-TIMEZONE:Australia/Brisbane
BEGIN:VTIMEZONE
TZID:Australia/Brisbane
X-LIC-LOCATION:Australia/Brisbane
BEGIN:STANDARD
DTSTART:19920301T030000
TZOFFSETFROM:+1100
TZOFFSETTO:+1000
TZNAME:AEST
END:STANDARD
END:VTIMEZONE
BEGIN:VEVENT
UID:ai1ec-2595@beyondtransformation.site
DTSTAMP:20190228T222947Z
CATEGORIES;LANGUAGE=en-AU:Bootcamp
CONTACT:
DESCRIPTION:<div id='et-boc' class='et-boc'>\n			\n			<div class='et_builder_inne
 r_content et_pb_gutters3'>\n				\n			</div>\n			\n		</div>
DTSTART;TZID=Australia/Brisbane:20180707T073000
DTEND;TZID=Australia/Brisbane:20180707T083000
RRULE:FREQ=WEEKLY;BYDAY=SA;WKST=MO
SEQUENCE:0
SUMMARY:Bootcamp
URL:https://beyondtransformation.com.au/event/bootcamp/
X-COST-TYPE:free
END:VEVENT
END:VCALENDAR
