BEGIN:VCALENDAR
VERSION:2.0
PRODID:-//109.199.126.31//NONSGML kigkonsult.se iCalcreator 2.20//
CALSCALE:GREGORIAN
METHOD:PUBLISH
X-WR-CALNAME:Beyond Transformation
X-WR-CALDESC:Health &amp\; Fitness in Burleigh
X-FROM-URL:https://beyondtransformation.com.au
X-WR-TIMEZONE:Australia/Brisbane
BEGIN:VTIMEZONE
TZID:Australia/Brisbane
X-LIC-LOCATION:Australia/Brisbane
BEGIN:STANDARD
DTSTART:19920301T030000
TZOFFSETFROM:+1100
TZOFFSETTO:+1000
TZNAME:AEST
END:STANDARD
END:VTIMEZONE
BEGIN:VEVENT
UID:ai1ec-2598@beyondtransformation.site
DTSTAMP:20190228T222444Z
CATEGORIES;LANGUAGE=en-AU:Pilates
CONTACT:
DESCRIPTION:<div id='et-boc' class='et-boc'>\n			\n			<div class='et_builder_inne
 r_content et_pb_gutters3'>\n				<p class='p1'><span class='s1'>Our Pilates cla
 sses are a great way for you to improve your mobility\, posture\, core str
 ength and stability. Pilates offers so many amazing benefits:</span></p>\n
 <ul class='ul1'>\n<li class='li1'><span class='s1'>improves flexibility</s
 pan></li>\n<li class='li1'><span class='s1'>strengthens core muscles inclu
 ding lower back\, hips\, abs and glutes</span></li>\n<li class='li1'><span
  class='s1'>improves posture & alignment</span></li>\n<li class='li1'><spa
 n class='s1'>great for rehabilitation and injury prevention</span></li>\n<
 /ul>\n<p class='p1'><span class='s1'>With highly qualified and experienced
  instructors these classes are designed for weight loss\, toning and stabi
 lity.</span></p>\n\n			</div>\n			\n		</div>
DTSTART;TZID=Australia/Brisbane:20180706T083000
DTEND;TZID=Australia/Brisbane:20180706T093000
RRULE:FREQ=WEEKLY;BYDAY=WE,FR,SA;WKST=MO
SEQUENCE:0
SUMMARY:Pilates
URL:https://beyondtransformation.com.au/event/pilates/
X-COST-TYPE:free
END:VEVENT
END:VCALENDAR
