BEGIN:VCALENDAR
VERSION:2.0
PRODID:-//109.199.126.31//NONSGML kigkonsult.se iCalcreator 2.20//
CALSCALE:GREGORIAN
METHOD:PUBLISH
X-WR-CALNAME:Beyond Transformation
X-WR-CALDESC:Health &amp\; Fitness in Burleigh
X-FROM-URL:https://beyondtransformation.com.au
X-WR-TIMEZONE:Australia/Brisbane
BEGIN:VTIMEZONE
TZID:Australia/Brisbane
X-LIC-LOCATION:Australia/Brisbane
BEGIN:STANDARD
DTSTART:19920301T030000
TZOFFSETFROM:+1100
TZOFFSETTO:+1000
TZNAME:AEST
END:STANDARD
END:VTIMEZONE
BEGIN:VEVENT
UID:ai1ec-2605@beyondtransformation.site
DTSTAMP:20190228T222120Z
CATEGORIES;LANGUAGE=en-AU:Kids Boxing
CONTACT:
DESCRIPTION:Here at Beyond we provide an all year round training program fo
 r kids to enjoy boxing while learning self-defence and coordination. This 
 45 minute session is jam packed with fun games\, boxing drills\, partner e
 xercises and ends with some calming meditation. Kid’s can join anytime! Th
 e kids will leave feeling energised\, focussed and from past classes… they
  may not even want to go home!
DTSTART;TZID=Australia/Brisbane:20180703T160000
DTEND;TZID=Australia/Brisbane:20180703T164500
RRULE:FREQ=WEEKLY;BYDAY=TU,WE,TH;WKST=MO
SEQUENCE:0
SUMMARY:Kids Fitness
URL:https://beyondtransformation.com.au/event/kids-fitness/
X-COST-TYPE:free
X-ALT-DESC;FMTTYPE=text/html:<!DOCTYPE HTML PUBLIC '-//W3C//DTD HTML 3.2//E
 N'>\\n<HTML>\\n<HEAD>\\n<TITLE></TITLE>\\n</HEAD>\\n<BODY><div id='et-boc'
  class='et-boc'>\n			\n			<div class='et_builder_inner_content et_pb_gutters3'>
 \n				<p class='p1'><span class='s1'>Here at Beyond we </span><span class='s2'
 >provide an all year round training program for kids to enjoy boxing while
  learning self-defence and coordination. This 45 minute session is jam pac
 ked with fun games\, boxing drills\, partner exercises and ends with some 
 calming meditation. Kid’s can join anytime! The kids will leave feeling en
 ergised\, focussed and from past classes… they may not even want to go hom
 e! </span></p>\n\n			</div>\n			\n		</div></BODY></HTML>
END:VEVENT
END:VCALENDAR
