BEGIN:VCALENDAR
VERSION:2.0
PRODID:-//109.199.126.31//NONSGML kigkonsult.se iCalcreator 2.20//
CALSCALE:GREGORIAN
METHOD:PUBLISH
X-WR-CALNAME:Beyond Transformation
X-WR-CALDESC:Health &amp\; Fitness in Burleigh
X-FROM-URL:https://beyondtransformation.com.au
X-WR-TIMEZONE:Australia/Brisbane
BEGIN:VTIMEZONE
TZID:Australia/Brisbane
X-LIC-LOCATION:Australia/Brisbane
BEGIN:STANDARD
DTSTART:19920301T030000
TZOFFSETFROM:+1100
TZOFFSETTO:+1000
TZNAME:AEST
END:STANDARD
END:VTIMEZONE
BEGIN:VEVENT
UID:ai1ec-2607@beyondtransformation.site
DTSTAMP:20190228T222916Z
CATEGORIES;LANGUAGE=en-AU:Boxing
CONTACT:
DESCRIPTION:Our Boxing / Kickboxing class is one of our favourite classes a
 t Beyond. A perfect blend of fitness and kickboxing style training\, it is
  a great way to burn calories and have heaps of fun at the same time. Get 
 fit\, lose weight and learn self-defence all in the same class – what more
  could you ask for?
DTSTART;TZID=Australia/Brisbane:20180706T093000
DTEND;TZID=Australia/Brisbane:20180706T103000
RRULE:FREQ=WEEKLY;BYDAY=FR;WKST=MO
SEQUENCE:0
SUMMARY:Boxing
URL:https://beyondtransformation.com.au/event/boxing-3/
X-COST-TYPE:free
X-ALT-DESC;FMTTYPE=text/html:<!DOCTYPE HTML PUBLIC '-//W3C//DTD HTML 3.2//E
 N'>\\n<HTML>\\n<HEAD>\\n<TITLE></TITLE>\\n</HEAD>\\n<BODY><div id='et-boc'
  class='et-boc'>\n			\n			<div class='et_builder_inner_content et_pb_gutters3'>
 \n				<p class='p1'><span class='s1'>Our Boxing / Kickboxing class is one of o
 ur favourite classes at Beyond. </span><span class='s2'>A perfect blend of
  fitness and kickboxing style training\, it is a great way to burn calorie
 s and have heaps of fun at the same time. Get fit\, lose weight and learn 
 self-defence all in the same class – what more could you ask for?</span></
 p>\n\n			</div>\n			\n		</div></BODY></HTML>
END:VEVENT
END:VCALENDAR
