BEGIN:VCALENDAR
VERSION:2.0
PRODID:-//109.199.126.31//NONSGML kigkonsult.se iCalcreator 2.20//
CALSCALE:GREGORIAN
METHOD:PUBLISH
X-WR-CALNAME:Beyond Transformation
X-WR-CALDESC:Health &amp\; Fitness in Burleigh
X-FROM-URL:https://beyondtransformation.com.au
X-WR-TIMEZONE:Australia/Brisbane
BEGIN:VTIMEZONE
TZID:Australia/Brisbane
X-LIC-LOCATION:Australia/Brisbane
BEGIN:STANDARD
DTSTART:19920301T030000
TZOFFSETFROM:+1100
TZOFFSETTO:+1000
TZNAME:AEST
END:STANDARD
END:VTIMEZONE
BEGIN:VEVENT
UID:ai1ec-2949@beyondtransformation.com.au
DTSTAMP:20190228T222811Z
CATEGORIES;LANGUAGE=en-AU:Circuit
CONTACT:
DESCRIPTION:<div id='et-boc' class='et-boc'>\n			\n			<div class='et_builder_inne
 r_content et_pb_gutters3'>\n				<p class='p1'><span class='s1'>Our Circuit cla
 sses are a mix of ‘Total Body Resistance Exercise’ and “High Intensity Int
 erval Training.” A workout system that involves body weight and gravity – 
 Improving muscular strength and endurance while simultaneously improving j
 oint mobility and flexibility. </span><span class='s2'>An upbeat fun class
  that will help increase speed\, power and endurance! Boost metabolic rate
 \, helping you burn fat faster and improve muscle tone. Intervals are shor
 t and m</span><span class='s1'>ovements are big involving every muscle. Wo
 rking together\, so you can give max effort. </span></p>\n\n			</div>\n			\n		</di
 v>
DTSTART;TZID=Australia/Brisbane:20180927T170000
DTEND;TZID=Australia/Brisbane:20180927T180000
RRULE:FREQ=WEEKLY;BYDAY=TH;WKST=MO
SEQUENCE:0
SUMMARY:Circuit
URL:https://beyondtransformation.com.au/event/circuit-2-2/
X-COST-TYPE:free
END:VEVENT
END:VCALENDAR
