BEGIN:VCALENDAR
VERSION:2.0
PRODID:-//109.199.126.31//NONSGML kigkonsult.se iCalcreator 2.20//
CALSCALE:GREGORIAN
METHOD:PUBLISH
X-WR-CALNAME:Beyond Transformation
X-WR-CALDESC:Health &amp\; Fitness in Burleigh
X-FROM-URL:https://beyondtransformation.com.au
X-WR-TIMEZONE:Australia/Brisbane
BEGIN:VTIMEZONE
TZID:Australia/Brisbane
X-LIC-LOCATION:Australia/Brisbane
BEGIN:STANDARD
DTSTART:19920301T030000
TZOFFSETFROM:+1100
TZOFFSETTO:+1000
TZNAME:AEST
END:STANDARD
END:VTIMEZONE
BEGIN:VEVENT
UID:ai1ec-2950@beyondtransformation.com.au
DTSTAMP:20190228T222205Z
CATEGORIES;LANGUAGE=en-AU:Abs &amp\; Stretch
CONTACT:
DESCRIPTION:<div id='et-boc' class='et-boc'>\n			\n			<div class='et_builder_inne
 r_content et_pb_gutters3'>\n				<p class='p1'><span class='s1'>Focusing on str
 engthening your abs. A combination of strength enhancing and muscle toning
  exercises will target common problem areas.<span class='Apple-converted-s
 pace'>  </span>Incorporated with stretching as a vital component in any fi
 tness regime\, whether you’re a fitness newbie or a professional level ath
 lete\, it can boost the effectiveness of your workout routine. This class 
 delivers an intense regime that is designed to yield results.</span></p>\n
 \n			</div>\n			\n		</div>
DTSTART;TZID=Australia/Brisbane:20180925T170000
DTEND;TZID=Australia/Brisbane:20180925T180000
RRULE:FREQ=WEEKLY;BYDAY=TU;WKST=MO
SEQUENCE:0
SUMMARY:Abs & Stretch
URL:https://beyondtransformation.com.au/event/abs-stretch-2/
X-COST-TYPE:free
END:VEVENT
END:VCALENDAR
