BEGIN:VCALENDAR
VERSION:2.0
PRODID:-//109.199.126.31//NONSGML kigkonsult.se iCalcreator 2.20//
CALSCALE:GREGORIAN
METHOD:PUBLISH
X-WR-CALNAME:Beyond Transformation
X-WR-CALDESC:Health &amp\; Fitness in Burleigh
X-FROM-URL:https://beyondtransformation.com.au
X-WR-TIMEZONE:Australia/Brisbane
BEGIN:VTIMEZONE
TZID:Australia/Brisbane
X-LIC-LOCATION:Australia/Brisbane
BEGIN:STANDARD
DTSTART:19920301T030000
TZOFFSETFROM:+1100
TZOFFSETTO:+1000
TZNAME:AEST
END:STANDARD
END:VTIMEZONE
BEGIN:VEVENT
UID:ai1ec-392@solowebservices.com
DTSTAMP:20190228T221557Z
CATEGORIES;LANGUAGE=en-AU:Strength &amp\; Conditioning
CONTACT:Brendan\; 0415 077 794\; brendan@beyondtransformation.com.au\; http
 s://beyondtransformation.com.au/beyond-trainers/#brendan
DESCRIPTION:A carefully crafted mixture of Functional Mobility\, Compound S
 trength Training and Fat Burning Cardio in a safe controlled environment\,
  coached using proper technique instructed by our qualified and caring ins
 tructors.
DTSTART;TZID=Australia/Brisbane:20180509T053000
DTEND;TZID=Australia/Brisbane:20180509T063000
RRULE:FREQ=WEEKLY;BYDAY=MO,WE,FR;WKST=MO
SEQUENCE:0
SUMMARY:Strength and Conditioning
URL:https://beyondtransformation.com.au/event/strength-and-conditioning-3/
X-COST-TYPE:free
X-ALT-DESC;FMTTYPE=text/html:<!DOCTYPE HTML PUBLIC '-//W3C//DTD HTML 3.2//E
 N'>\\n<HTML>\\n<HEAD>\\n<TITLE></TITLE>\\n</HEAD>\\n<BODY><div id='et-boc'
  class='et-boc'>\n			\n			<div class='et_builder_inner_content et_pb_gutters3'>
 \n				<p>A carefully crafted mixture of Functional Mobility\, Compound Strengt
 h Training and Fat Burning Cardio in a safe controlled environment\, coach
 ed using proper technique instructed by our qualified and caring instructo
 rs.</p>\n\n			</div>\n			\n		</div></BODY></HTML>
END:VEVENT
END:VCALENDAR
